BEGIN:VCALENDAR
VERSION:2.0
PRODID:-//Center for Medical Simulation - ECPv5.16.3.1//NONSGML v1.0//EN
CALSCALE:GREGORIAN
METHOD:PUBLISH
X-WR-CALNAME:Center for Medical Simulation
X-ORIGINAL-URL:https://harvardmedsim.org
X-WR-CALDESC:Events for Center for Medical Simulation
BEGIN:VTIMEZONE
TZID:America/New_York
BEGIN:DAYLIGHT
TZOFFSETFROM:-0500
TZOFFSETTO:-0400
TZNAME:EDT
DTSTART:20240310T070000
END:DAYLIGHT
BEGIN:STANDARD
TZOFFSETFROM:-0400
TZOFFSETTO:-0500
TZNAME:EST
DTSTART:20241103T060000
END:STANDARD
END:VTIMEZONE
BEGIN:VEVENT
DTSTART;VALUE=DATE:20241113
DTEND;VALUE=DATE:20241114
DTSTAMP:20260420T095223
CREATED:20240531T202348Z
LAST-MODIFIED:20240531T202348Z
UID:228674-1731456000-1731542399@harvardmedsim.org
SUMMARY:Pain CRM Workshop (for MGH Pain Attendings)
DESCRIPTION:BWH\, BIDMC\, BCH\, NWH\, or MEEI\nPlease note that if you are from MGH you must register for the workshop through your scheduler.  \nFor non-MGH faculty\, please contact us to inquire about registering for this course.
URL:https://harvardmedsim.org/event/pain-crm-workshop-nov-13-2024/
LOCATION:Center for Medical Simulation (CMS)\, 100 1st Ave\, Suite# 400\, Boston\, MA\, 02129-2011\, United States
CATEGORIES:Anesthesia Simulation Courses,Other Courses
END:VEVENT
END:VCALENDAR