BEGIN:VCALENDAR
VERSION:2.0
PRODID:-//Center for Medical Simulation - ECPv5.16.3.1//NONSGML v1.0//EN
CALSCALE:GREGORIAN
METHOD:PUBLISH
X-WR-CALNAME:Center for Medical Simulation
X-ORIGINAL-URL:https://harvardmedsim.org
X-WR-CALDESC:Events for Center for Medical Simulation
BEGIN:VTIMEZONE
TZID:America/New_York
BEGIN:DAYLIGHT
TZOFFSETFROM:-0500
TZOFFSETTO:-0400
TZNAME:EDT
DTSTART:20250309T070000
END:DAYLIGHT
BEGIN:STANDARD
TZOFFSETFROM:-0400
TZOFFSETTO:-0500
TZNAME:EST
DTSTART:20251102T060000
END:STANDARD
END:VTIMEZONE
BEGIN:VEVENT
DTSTART;TZID=America/New_York:20250313T073000
DTEND;TZID=America/New_York:20250313T153000
DTSTAMP:20260423T125718
CREATED:20240822T164940Z
LAST-MODIFIED:20250402T224249Z
UID:228653-1741851000-1741879800@harvardmedsim.org
SUMMARY:ACRM-F8/MOCA® Workshop
DESCRIPTION:MOCA®/Crisis Resource Management Training for Practicing Anesthesiologists (ACRM) \nThe Center for Medical Simulation (CMS) offers intensive one day workshops in Anesthesia Crisis Resource Management (ACRM) for all anesthesiologists that will meet the MOCA® Part IV simulation requirement. \nCMS Anesthesia Crisis Resource Management workshops are designed for those anesthesiologists seeking to practice their skills in managing critical events. The overall focus of these workshops is on learning the type of teamwork and generic skills needed when managing any kind of infrequent but critical event in anesthesia and opportunities will be made available to learn skills in managing certain specific events. During the workshops\, participants requiring MOCA® certification will each have a turn as the primary anesthesiologist caring for the patient. \nPlease note that if you are from BWH\, BIDMC\, BCH\, MGH\, NWH\, or MEEI you must register for the workshop through your scheduler. If you desire MOCA certification you must tell your scheduler before coming to CMS. All others should register through the website. We must know beforehand if you want to use this workshop to meet your MOCA requirement. We cannot register you for MOCA credit on the day of the workshop or after you have taken the workshop. \nLearn more about the course.
URL:https://harvardmedsim.org/event/acrm-f8-moca-workshop-mar-13-2025/
LOCATION:Center for Medical Simulation (CMS)\, 100 1st Ave\, Suite# 400\, Boston\, MA\, 02129-2011\, United States
CATEGORIES:Anesthesia Simulation Courses
END:VEVENT
BEGIN:VEVENT
DTSTART;TZID=America/New_York:20250313T100000
DTEND;TZID=America/New_York:20250313T140000
DTSTAMP:20260423T125718
CREATED:20240813T153032Z
LAST-MODIFIED:20240813T153032Z
UID:228753-1741860000-1741874400@harvardmedsim.org
SUMMARY:Debriefing Assessment for Simulation in Healthcare (DASH) Rater Training Workshop
DESCRIPTION:Tuition\n$525 USD\nNOTE: Tuition covers 1 person to participate in the webinar. No additional viewers are allowed. If you would like us to run this course exclusively for members of your department or institution\, please Contact Us. \nApply Now \nAbout this session\nDebriefing clinical simulation experiences is widely understood as a crucial step in clarifying and consolidating insights and lessons from simulations. The Debriefing Assessment for Simulation in Healthcare (DASH) is designed to assist in evaluating and developing faculty debriefing and instructional skills. The DASH is a widely used instrument with known psychometric properties. It is designed to be applied in a variety of healthcare disciplines and simulation settings and can be used for summative or formative evaluation. This intensive immersion provides an overview of the six elements to an effective debriefing as defined by the DASH before moving into three rating cycles. \nEquipment Requirements\nThe webinar is delivered via Zoom\, a web conferencing platform. All materials and course interactions will occur online. In order to participate fully\, each person must have: \n\nTheir own computer\, tablet\, or mobile phone\nReliable high-speed internet access (minimum 3 Mbps upload/download speed)\nMicrophone and speakers (built-in\, headset or from webcam)\nOptional (but preferred): Webcam\n\nEach individual – even those participants who are from the same institution – needs his or her own computer and computer headset (microphone and earphones). We highly encourage you to have a webcam to enrich our interactions. \n\nInstructors\n\n\n\nJanice Palaganas\, PhD\, RN\, NP\, FSSH\, ANEF\, FAAN\nAssociate Director of Health Professions Education\nMGH Institute of Health Professions\, Boston\, Massachusetts\nPrincipal Faculty\nCenter for Medical Simulation\, Boston\, Massachusetts \nDr. Palaganas has developed a passion for teamwork from her background as an emergency nurse\, trauma nurse practitioner\, director of emergency and critical care services\, and faculty for schools of medicine\, nursing\, allied health\, management\, physician assistant studies\, and emergency medicine. As a behavioral scientist and former clinical nurse and hospital administrator\, Dr. Palaganas’ passion is in using health care simulation as a platform for interprofessional education. She served as a committee member of the Institute of Medicine’s report on measuring the impact of interprofessional education on practice. Dr. Palaganas has shaped the field of simulation\, leading the development of the Society for Simulation’s Accreditation and Certification Program\, authored their first textbook\, Defining Excellence in Simulation Programs as editor-in-chief. She urged the development of the recently released Society for Simulation dictionary\, authored seminal articles\, and co-authored field-changing research including the National League for Nursing study for high-stakes assessment using simulation. \n\n\n\n\n\nJenny Rudolph\, PhD\nExecutive Director\nCenter for Medical Simulation\nBoston\, Massachusetts\, USA \nDr. Rudolph is an organization behavior scholar who has helped health educators world-wide promote dynamic\, honest\, but non-threatening conversations through the “debriefing with good judgment” approach to reflective conversations. Dr. Rudolph is a life-long athlete who brings the joy of practice to learning in healthcare education\, especially feedback\, debriefing\, and collaboration at point of care. \n\n\n\n\nLearn more about this course
URL:https://harvardmedsim.org/event/debriefing-assessment-for-simulation-in-healthcare-dash-rater-training-workshop-mar-13-2025/
LOCATION:Online\, US Eastern Time\, Boston\, MA\, United States
CATEGORIES:Online Instructor Training
END:VEVENT
END:VCALENDAR