BEGIN:VCALENDAR
VERSION:2.0
PRODID:-//Center for Medical Simulation - ECPv5.16.3.1//NONSGML v1.0//EN
CALSCALE:GREGORIAN
METHOD:PUBLISH
X-WR-CALNAME:Center for Medical Simulation
X-ORIGINAL-URL:https://harvardmedsim.org
X-WR-CALDESC:Events for Center for Medical Simulation
BEGIN:VTIMEZONE
TZID:America/New_York
BEGIN:DAYLIGHT
TZOFFSETFROM:-0500
TZOFFSETTO:-0400
TZNAME:EDT
DTSTART:20250309T070000
END:DAYLIGHT
BEGIN:STANDARD
TZOFFSETFROM:-0400
TZOFFSETTO:-0500
TZNAME:EST
DTSTART:20251102T060000
END:STANDARD
END:VTIMEZONE
BEGIN:VEVENT
DTSTART;VALUE=DATE:20251031
DTEND;VALUE=DATE:20251101
DTSTAMP:20260419T175356
CREATED:20250710T145223Z
LAST-MODIFIED:20250710T145223Z
UID:229663-1761868800-1761955199@harvardmedsim.org
SUMMARY:Pain CRM Workshop (for MGH Pain Fellows)
DESCRIPTION:Please note that if you are from BWH\, BIDMC\, BCH\, MGH\, NWH\, or MEEI you must register for the workshop through your scheduler.
URL:https://harvardmedsim.org/event/pain-crm-workshop-oct-31-2025/
LOCATION:Center for Medical Simulation (CMS)\, 100 1st Ave\, Suite# 400\, Boston\, MA\, 02129-2011\, United States
CATEGORIES:Anesthesia Simulation Courses,Other Courses
END:VEVENT
END:VCALENDAR