BEGIN:VCALENDAR
VERSION:2.0
PRODID:-//Center for Medical Simulation - ECPv5.16.3.1//NONSGML v1.0//EN
CALSCALE:GREGORIAN
METHOD:PUBLISH
X-WR-CALNAME:Center for Medical Simulation
X-ORIGINAL-URL:https://harvardmedsim.org
X-WR-CALDESC:Events for Center for Medical Simulation
BEGIN:VTIMEZONE
TZID:America/New_York
BEGIN:DAYLIGHT
TZOFFSETFROM:-0500
TZOFFSETTO:-0400
TZNAME:EDT
DTSTART:20180311T070000
END:DAYLIGHT
BEGIN:STANDARD
TZOFFSETFROM:-0400
TZOFFSETTO:-0500
TZNAME:EST
DTSTART:20181104T060000
END:STANDARD
END:VTIMEZONE
BEGIN:VEVENT
DTSTART;TZID=America/New_York:20181113T173000
DTEND;TZID=America/New_York:20181113T190000
DTSTAMP:20260421T050436
CREATED:20180518T133040Z
LAST-MODIFIED:20180518T133040Z
UID:220642-1542130200-1542135600@harvardmedsim.org
SUMMARY:Boston Simulation Community Research and Education Meeting
DESCRIPTION:About Boston Simulation Community Research and Education Meetings\nThe meetings provide a friendly and informal venue for simulation educators and researchers to present work-in-progress\, problem solve and share best practices\, acquaint each other with relevant ideas from other disciplines and connect with others. \n \nMeeting Topic\nTopic Title?\nRead more about today’s meeting.
URL:https://harvardmedsim.org/event/boston-simulation-community-research-and-education-meeting-nov-13-2018/
LOCATION:Center for Medical Simulation (CMS)\, 100 1st Ave\, Suite# 400\, Boston\, MA\, 02129-2011\, United States
CATEGORIES:Other Events
END:VEVENT
END:VCALENDAR