BEGIN:VCALENDAR
VERSION:2.0
PRODID:-//Center for Medical Simulation - ECPv5.16.3.1//NONSGML v1.0//EN
CALSCALE:GREGORIAN
METHOD:PUBLISH
X-WR-CALNAME:Center for Medical Simulation
X-ORIGINAL-URL:https://harvardmedsim.org
X-WR-CALDESC:Events for Center for Medical Simulation
BEGIN:VTIMEZONE
TZID:America/New_York
BEGIN:DAYLIGHT
TZOFFSETFROM:-0500
TZOFFSETTO:-0400
TZNAME:EDT
DTSTART:20230312T070000
END:DAYLIGHT
BEGIN:STANDARD
TZOFFSETFROM:-0400
TZOFFSETTO:-0500
TZNAME:EST
DTSTART:20231105T060000
END:STANDARD
END:VTIMEZONE
BEGIN:VEVENT
DTSTART;TZID=America/New_York:20230519T100000
DTEND;TZID=America/New_York:20230622T113000
DTSTAMP:20260423T064456
CREATED:20240820T173621Z
LAST-MODIFIED:20240820T173621Z
UID:228789-1684490400-1687433400@harvardmedsim.org
SUMMARY:CMS Fellowship Presentation: Dr. David Benavides Zora
DESCRIPTION:Dr. David Benavides Zora will present the work completed during his experience in the Center for Medical Simulation’s Simulation Fellowship and International Scholar Program.
URL:https://harvardmedsim.org/event/cms-fellowship-presentation-dr-david-benavides-zora/
LOCATION:Online\, US Eastern Time\, Boston\, MA\, United States
CATEGORIES:Other Events
END:VEVENT
END:VCALENDAR