BEGIN:VCALENDAR
VERSION:2.0
PRODID:-//Center for Medical Simulation - ECPv5.16.3.1//NONSGML v1.0//EN
CALSCALE:GREGORIAN
METHOD:PUBLISH
X-WR-CALNAME:Center for Medical Simulation
X-ORIGINAL-URL:https://harvardmedsim.org
X-WR-CALDESC:Events for Center for Medical Simulation
BEGIN:VTIMEZONE
TZID:America/New_York
BEGIN:DAYLIGHT
TZOFFSETFROM:-0500
TZOFFSETTO:-0400
TZNAME:EDT
DTSTART:20230312T070000
END:DAYLIGHT
BEGIN:STANDARD
TZOFFSETFROM:-0400
TZOFFSETTO:-0500
TZNAME:EST
DTSTART:20231105T060000
END:STANDARD
END:VTIMEZONE
BEGIN:VEVENT
DTSTART;VALUE=DATE:20230403
DTEND;VALUE=DATE:20230404
DTSTAMP:20260421T132644
CREATED:20220824T191640Z
LAST-MODIFIED:20230309T224419Z
UID:227372-1680480000-1680566399@harvardmedsim.org
SUMMARY:The Feedback Course: Transforming Self\, Others\, and Culture (Thursdays)
DESCRIPTION:Tuition\n$1200 USD\nNOTE: Tuition covers 1 person to participate in the course. No additional viewers are allowed. If you would like us to run this course exclusively for members of your department or institution\, please Contact Us. \nApply Now \nAbout this course\nThe Center for Medical Simulation’s online Feedback Course provides a way for health profession educators\, leaders\, administrators\, or health related practitioners who give feedback in healthcare settings to develop their feedback skills. \nThe course runs for 6 consecutive weeks from April 3-May 11\, 2023. Course participants meet in a weekly 2 hour class video conference. Participants complete an additional 1-3 hours of preparation and practice time per week at a time most convenient to them. \nClick on the date to see the session time in your time zone. Class video conference sessions are scheduled for: \n\nCourse Week\n#\nClass Video Conference Meeting Time\nUS Eastern Daylight Savings Time (UTC-4)\n1\nMon. April 3\, 2023 from 5:00-7:00 PM\nFor now\, please block off this time. You will be asked to join in a 30 minute small group meeting during this time block. We will let you know by Monday\, March 27th which small group you are in and which 30 minute block you are assigned to attend.\n1\nThu. April 6\, 2023 from 5:00-7:00 PM\n2\nThu. April 13\, 2023 from 5:00-7:00 PM\n3\nThu. April 20\, 2023 from 5:00-7:00 PM\n4\nThu. April 27\, 2023 from 5:00-7:00 PM\n5\nThu. May 4\, 2023 from 5:00-7:00 PM\n6\nThu. May 11\, 2023 from 5:00-7:00 PM\n\n\nThese course dates will be held at United States Eastern Daylight Savings Time (UTC-4).\nUnited States Daylight Savings Time starts at 2:00AM on Sunday\, March 12\, 2023. These course dates will be held at United States Eastern Daylight Savings Time (UTC-4).\n\nRequired Books\nPlease make arrangements to purchase or borrow the two books required for this course. We recommend reading each entire book at your leisure (as completely optional reading)\, prior to Week 1 and then re-reading the required chapters each week. \n\nThanks for the Feedback: The Science and Art of Receiving Feedback Well by Douglas Stone & Sheila Heen.\nDifficult Conversations: (How to Discuss What Matters Most) by Douglas Stone\, Bruce Patton\, & Sheila Heen.\n\nTechnology Requirements\nAll materials and course interactions will occur online to reach participants from different areas of the world. There are several technology requirements. \nWe will use 3 platforms in this course for learning\, communications\, and sharing materials to foster a community of practice that can continue beyond the course: \n\nLearning Management System (LMS): The CMS Virtual Campus will serve as the platform for delivering course content and collecting feedback through a course evaluation.\nVideo Conferencing: We will use Zoom for our live sessions. You only need a free account to connect to our classes.\nMessaging: To foster our community of practice\, we will use WhatsApp\, for asynchronous discussions. This is a free\, simple\, secure\, and reliable messaging\nand calling app that is available on phones and Windows desktops all over the world.\n\nParticipants will complete activities to orient them to each other and the platforms prior to the start of the course. To participate fully in this course\, each individual – even if they are attending the course with a colleague from the same institution – needs: \n\nTheir own computer (desktop or laptop) for Zoom sessions. We will break out into different rooms in each class. Sharing a computer limits the ability to interact.\nTablet or mobile phone is recommended for quickly responding to conversations in our WhatsApp group. You may use a desktop/web version of WhatsApp to interact with our group chat.\nReliable high-speed internet access (minimum 3 Mbps upload/download speed). Wired internet access is preferred for our Zoom classes but a strong wireless connection or hotspot will suffice.\nTheir own computer headset (microphone and earphones)\nWebcam\nZoom Desktop Client installed on their computer\nWe recommend downloading\nand installing the Zoom Desktop Client on the computer used for the course for full\nfunctionality including local recording of your pre- and post- self-assessment.\nWhatsApp installed on their mobile device\nWe recommend downloading and installing the WhatsApp on a mobile device to keep up with the class discussion.\nTheir own space away from others because conversations from nearby colleagues can interfere with the audio. The live sessions should be completed in a space not shared with others.\n\n\n \nInstructors\n\n\n\nJanice Palaganas\, PhD\, RN\, NP\, FSSH\, ANEF\, FAAN\nAssociate Director of Health Professions Education\nMGH Institute of Health Professions\, Boston\, Massachusetts\nPrincipal Faculty\nCenter for Medical Simulation\, Boston\, Massachusetts \nDr. Palaganas has developed a passion for teamwork from her background as an emergency nurse\, trauma nurse practitioner\, director of emergency and critical care services\, and faculty for schools of medicine\, nursing\, allied health\, management\, physician assistant studies\, and emergency medicine. As a behavioral scientist and former clinical nurse and hospital administrator\, Dr. Palaganas’ passion is in using health care simulation as a platform for interprofessional education. She served as a committee member of the Institute of Medicine’s report on measuring the impact of interprofessional education on practice. Dr. Palaganas has shaped the field of simulation\, leading the development of the Society for Simulation’s Accreditation and Certification Program\, authored their first textbook\, Defining Excellence in Simulation Programs as editor-in-chief. She urged the development of the recently released Society for Simulation dictionary\, authored seminal articles\, and co-authored field-changing research including the National League for Nursing study for high-stakes assessment using simulation. \n\n\n\n\n\nJo Shapiro\, MD\, FACS\nAssociate Professor of Otolaryngology Head and Neck Surgery\nHarvard Medical School\, Boston\, Massachusetts\nConsultant\nMassachusetts General Hospital Department of Anesthesia\, Pain and Critical Care\, Boston\, Massachusetts\nPrincipal Faculty\nCenter for Medical Simulation\, Boston\, Massachusetts \nDr. Shapiro founded the Brigham and Women’s Hospital Center for Professionalism and Peer Support in 2008 where she served as the director for over 10 years. During that time\, the Center became a model for national and international institutions seeking methods to enhance trust and respect and improve clinician wellbeing. She continues to assist organizations in developing specific programmatic approaches such as peer support\, professionalism and wellbeing initiatives. She is involved in global health medical education and training. \n\n\n\n\nLearn more about the Feedback Course.
URL:https://harvardmedsim.org/event/feedback-course-thursdays-apr-03-may-19-2023/
LOCATION:Online\, US Eastern Time\, Boston\, MA\, United States
CATEGORIES:Online Instructor Training,Other Courses
END:VEVENT
END:VCALENDAR