BEGIN:VCALENDAR
VERSION:2.0
PRODID:-//Center for Medical Simulation - ECPv5.16.3.1//NONSGML v1.0//EN
CALSCALE:GREGORIAN
METHOD:PUBLISH
X-WR-CALNAME:Center for Medical Simulation
X-ORIGINAL-URL:https://harvardmedsim.org
X-WR-CALDESC:Events for Center for Medical Simulation
BEGIN:VTIMEZONE
TZID:America/New_York
BEGIN:DAYLIGHT
TZOFFSETFROM:-0500
TZOFFSETTO:-0400
TZNAME:EDT
DTSTART:20250309T070000
END:DAYLIGHT
BEGIN:STANDARD
TZOFFSETFROM:-0400
TZOFFSETTO:-0500
TZNAME:EST
DTSTART:20251102T060000
END:STANDARD
END:VTIMEZONE
BEGIN:VEVENT
DTSTART;TZID=America/New_York:20250318T080000
DTEND;TZID=America/New_York:20250318T163000
DTSTAMP:20260420T045150
CREATED:20241021T180747Z
LAST-MODIFIED:20241021T180747Z
UID:228762-1742284800-1742315400@harvardmedsim.org
SUMMARY:Gateway Debriefing Skills Workshop: University of South Carolina College of Nursing (USCCON) - Columbia\, SC
DESCRIPTION:Simulation Instructor Training:\nGateway Debriefing Skills Workshop: An Introduction to Debriefing with Good Judgment©\nThe March 18\, 2025 workshop will be held in person from 8:00AM to 4:30PM US Eastern time. View the workshop start time in your local time zone. This workshop is only open to members of the University of South Carolina College of Nursing community. Please contact us with any questions or concerns. \nThe Center for Medical Simulation’s Gateway Debriefing Skills Workshop introduces healthcare education faculty to the foundational practices of the “Debriefing with Good Judgment©” method of debriefing. This innovative Workshop combines a day long immersive in-person learning experience with online learning that includes customized peer-to-peer and mentor feedback. \n\nTechnology Requirements\nThis online course is delivered via Zoom\, a web conferencing platform\, and the CMS Virtual Campus\, a learning management system. All materials and course interactions will occur online. In order to participate fully\, each participant must have: \n\nTheir own computer (tablets and mobile phones do not allow full engagement )\nReliable high-speed internet access (minimum 3 Mbps upload/download speed)\nMicrophone and speakers (built-in\, headset or from webcam)\nWebcam\n\nEach individual – even those participants who are from the same institution – needs his or her own computer and computer headset (microphone and earphones). We highly encourage you to have a webcam to enrich our interactions.\n \nLearn more about the Gateway Debriefing Skills Workshop \nLearn more about the [Host] Gateway Debriefing Skills Workshop.\nView the workshop start time in your local time zone.
URL:https://harvardmedsim.org/event/gateway-debriefing-skills-workshop-at-usccon-mar-18-2025/
LOCATION:University of South Carolina College of Nursing\, Columbia\, SC\, United States
CATEGORIES:Instructor Training Offsite
END:VEVENT
END:VCALENDAR