BEGIN:VCALENDAR
VERSION:2.0
PRODID:-//Center for Medical Simulation - ECPv5.16.3.1//NONSGML v1.0//EN
CALSCALE:GREGORIAN
METHOD:PUBLISH
X-WR-CALNAME:Center for Medical Simulation
X-ORIGINAL-URL:https://harvardmedsim.org
X-WR-CALDESC:Events for Center for Medical Simulation
BEGIN:VTIMEZONE
TZID:America/New_York
BEGIN:DAYLIGHT
TZOFFSETFROM:-0500
TZOFFSETTO:-0400
TZNAME:EDT
DTSTART:20230312T070000
END:DAYLIGHT
BEGIN:STANDARD
TZOFFSETFROM:-0400
TZOFFSETTO:-0500
TZNAME:EST
DTSTART:20231105T060000
END:STANDARD
END:VTIMEZONE
BEGIN:VEVENT
DTSTART;VALUE=DATE:20230801
DTEND;VALUE=DATE:20230802
DTSTAMP:20260421T100903
CREATED:20230621T171943Z
LAST-MODIFIED:20230621T171943Z
UID:227992-1690848000-1690934399@harvardmedsim.org
SUMMARY:Gateway Debriefing Skills Workshop: The University of Kansas School of Nursing - Kansas City\, KS
DESCRIPTION:Simulation Instructor Training: Gateway Debriefing Skills Workshop: An Introduction to Debriefing with Good Judgment©\nThe Center for Medical Simulation’s Gateway Debriefing Skills Workshop introduces healthcare education faculty to the foundational practices of the “Debriefing with Good Judgment©” method of debriefing. This innovative Workshop combines a day long immersive in-person learning experience with online learning that includes customized peer-to-peer and mentor feedback.\nLearn more about the Gateway Debriefing Skills Workshop \n\nLearn more about the [Host] Gateway Debriefing Skills Workshop.
URL:https://harvardmedsim.org/event/gateway-debriefing-skills-workshop-ku-son-ks-aug-01-2023/
LOCATION:The University of Kansas School of Nursing\, 3901 Rainbow Blvd\, Kansas City\, KS
CATEGORIES:Instructor Training Offsite
END:VEVENT
END:VCALENDAR