BEGIN:VCALENDAR
VERSION:2.0
PRODID:-//Center for Medical Simulation - ECPv5.16.3.1//NONSGML v1.0//EN
CALSCALE:GREGORIAN
METHOD:PUBLISH
X-WR-CALNAME:Center for Medical Simulation
X-ORIGINAL-URL:https://harvardmedsim.org
X-WR-CALDESC:Events for Center for Medical Simulation
BEGIN:VTIMEZONE
TZID:America/New_York
BEGIN:DAYLIGHT
TZOFFSETFROM:-0500
TZOFFSETTO:-0400
TZNAME:EDT
DTSTART:20210314T070000
END:DAYLIGHT
BEGIN:STANDARD
TZOFFSETFROM:-0400
TZOFFSETTO:-0500
TZNAME:EST
DTSTART:20211107T060000
END:STANDARD
END:VTIMEZONE
BEGIN:VEVENT
DTSTART;TZID=America/New_York:20210517T090000
DTEND;TZID=America/New_York:20210521T170000
DTSTAMP:20260421T224908
CREATED:20200319T205132Z
LAST-MODIFIED:20210201T163925Z
UID:223712-1621242000-1621616400@harvardmedsim.org
SUMMARY:Healthcare Simulation Essentials: Design and Debriefing
DESCRIPTION:Simulation Instructor Training\nHealthcare Simulation Essentials: Design and Debriefing (HSEDD)\n(formerly known as the Comprehensive Instructor Workshop)\n\nThe May 17-21\, 2021 course will only be offered online from 9:00AM to 5:00PM US Eastern time. View the course start time in your local time zone. Please contact us with any questions or concerns. \nRecently updated to incorporate the latest advances in simulation and educational practice\, this intensive course is led by some of the world’s leading simulation educators. Integrating theories from multiple disciplines\, the course focuses on simulation design and debriefing using the Debriefing with Good Judgment© method. Topics also include assessment in simulation and strategic thinking to advance your simulation program. Attendees join a growing community of Center for Medical Simulation graduates who are positioned as leaders in the field. Daily formats vary and include simulation scenarios\, lectures\, small and large group discussions\, case studies\, and practical exercises with feedback. Participants will create\, run and debrief simulation cases and receive feedback on debriefing skills from leading debriefing experts. \nCourse Topics Include:\n\nCreating a challenging and safe learning environment\nTeaching clinical thinking and teamwork skills\nDeveloping debriefing skills\nCreating\, conducting\, and debriefing simulation-based learning experiences\nAvoiding simulation pitfalls and ineffective debriefing techniques\nAdvancing simulation within one’s institution\n\nLearn more about the Healthcare Simulation Essentials: Design and Debriefing course
URL:https://harvardmedsim.org/event/healthcare-simulation-essentials-design-and-debriefing-formerly-comprehensive-instructor-workshop-may-17-21-2021/
LOCATION:Online\, US Eastern Time\, Boston\, MA\, United States
CATEGORIES:Instructor Training at CMS
END:VEVENT
END:VCALENDAR