BEGIN:VCALENDAR
VERSION:2.0
PRODID:-//Center for Medical Simulation - ECPv5.16.3.1//NONSGML v1.0//EN
CALSCALE:GREGORIAN
METHOD:PUBLISH
X-WR-CALNAME:Center for Medical Simulation
X-ORIGINAL-URL:https://harvardmedsim.org
X-WR-CALDESC:Events for Center for Medical Simulation
BEGIN:VTIMEZONE
TZID:America/New_York
BEGIN:DAYLIGHT
TZOFFSETFROM:-0500
TZOFFSETTO:-0400
TZNAME:EDT
DTSTART:20210314T070000
END:DAYLIGHT
BEGIN:STANDARD
TZOFFSETFROM:-0400
TZOFFSETTO:-0500
TZNAME:EST
DTSTART:20211107T060000
END:STANDARD
END:VTIMEZONE
BEGIN:VEVENT
DTSTART;VALUE=DATE:20211224
DTEND;VALUE=DATE:20211225
DTSTAMP:20260421T114742
CREATED:20200617T141421Z
LAST-MODIFIED:20200617T141421Z
UID:224803-1640304000-1640390399@harvardmedsim.org
SUMMARY:Holiday - Christmas Day Observed (CMS Closed)
DESCRIPTION:The Center for Medical Simulation (CMS) is closed to observe Christmas Day.
URL:https://harvardmedsim.org/event/holiday-christmas-day-observed-cms-closed-dec-24-2021/
LOCATION:Center for Medical Simulation (CMS)\, 100 1st Ave\, Suite# 400\, Boston\, MA\, 02129-2011\, United States
CATEGORIES:CMS Holiday (Office Closed)
END:VEVENT
END:VCALENDAR