BEGIN:VCALENDAR
VERSION:2.0
PRODID:-//Center for Medical Simulation - ECPv5.16.3.1//NONSGML v1.0//EN
CALSCALE:GREGORIAN
METHOD:PUBLISH
X-WR-CALNAME:Center for Medical Simulation
X-ORIGINAL-URL:https://harvardmedsim.org
X-WR-CALDESC:Events for Center for Medical Simulation
BEGIN:VTIMEZONE
TZID:America/New_York
BEGIN:DAYLIGHT
TZOFFSETFROM:-0500
TZOFFSETTO:-0400
TZNAME:EDT
DTSTART:20220313T070000
END:DAYLIGHT
BEGIN:STANDARD
TZOFFSETFROM:-0400
TZOFFSETTO:-0500
TZNAME:EST
DTSTART:20221106T060000
END:STANDARD
END:VTIMEZONE
BEGIN:VEVENT
DTSTART;VALUE=DATE:20220117
DTEND;VALUE=DATE:20220118
DTSTAMP:20260421T194821
CREATED:20210728T225357Z
LAST-MODIFIED:20210728T225357Z
UID:226456-1642377600-1642463999@harvardmedsim.org
SUMMARY:Holiday - Martin Luther King Day
DESCRIPTION:The Center for Medical Simulation (CMS) is closed to observe Martin Luther King Day.
URL:https://harvardmedsim.org/event/holiday-martin-luther-king-day-jan-17-2022/
LOCATION:Center for Medical Simulation (CMS)\, 100 1st Ave\, Suite# 400\, Boston\, MA\, 02129-2011\, United States
CATEGORIES:CMS Holiday (Office Closed)
END:VEVENT
END:VCALENDAR