BEGIN:VCALENDAR
VERSION:2.0
PRODID:-//Center for Medical Simulation - ECPv5.16.3.1//NONSGML v1.0//EN
CALSCALE:GREGORIAN
METHOD:PUBLISH
X-WR-CALNAME:Center for Medical Simulation
X-ORIGINAL-URL:https://harvardmedsim.org
X-WR-CALDESC:Events for Center for Medical Simulation
BEGIN:VTIMEZONE
TZID:America/New_York
BEGIN:DAYLIGHT
TZOFFSETFROM:-0500
TZOFFSETTO:-0400
TZNAME:EDT
DTSTART:20170312T070000
END:DAYLIGHT
BEGIN:STANDARD
TZOFFSETFROM:-0400
TZOFFSETTO:-0500
TZNAME:EST
DTSTART:20171105T060000
END:STANDARD
END:VTIMEZONE
BEGIN:VEVENT
DTSTART;VALUE=DATE:20170531
DTEND;VALUE=DATE:20170601
DTSTAMP:20260420T082525
CREATED:20170412T004352Z
LAST-MODIFIED:20170607T140105Z
UID:218238-1496188800-1496275199@harvardmedsim.org
SUMMARY:L&DCRM-1
DESCRIPTION:Learning Teamwork and Crisis Resource Management (CRM) for Labor and Delivery Clinicians (L&DCRM-1)\nThis full day Labor and Delivery Crisis Resource Management (CRM) experiential course focuses on event management during simulated clinical practice. Participants include obstetricians\, obstetrical nurses\, midwives and obstetrical anesthesiologists because collaboration and teamwork among these groups is so important during obstetrical events. \nTopics include:\n– Factors that degrade long-term vigilance in Labor and Delivery\n– Communication strategies in event management\n– Strategies for debriefing events and disclosing medical errors \nLearn more about Learning Teamwork and Crisis Resource Management for Labor and Delivery Clinicians
URL:https://harvardmedsim.org/event/ldcrm-1-may-31-2017/
LOCATION:Center for Medical Simulation (CMS)\, 100 1st Ave\, Suite# 400\, Boston\, MA\, 02129-2011\, United States
CATEGORIES:Labor & Delivery Simulation Courses
END:VEVENT
END:VCALENDAR