BEGIN:VCALENDAR
VERSION:2.0
PRODID:-//Center for Medical Simulation - ECPv5.16.3.1//NONSGML v1.0//EN
CALSCALE:GREGORIAN
METHOD:PUBLISH
X-WR-CALNAME:Center for Medical Simulation
X-ORIGINAL-URL:https://harvardmedsim.org
X-WR-CALDESC:Events for Center for Medical Simulation
BEGIN:VTIMEZONE
TZID:America/New_York
BEGIN:DAYLIGHT
TZOFFSETFROM:-0500
TZOFFSETTO:-0400
TZNAME:EDT
DTSTART:20190310T070000
END:DAYLIGHT
BEGIN:STANDARD
TZOFFSETFROM:-0400
TZOFFSETTO:-0500
TZNAME:EST
DTSTART:20191103T060000
END:STANDARD
END:VTIMEZONE
BEGIN:VEVENT
DTSTART;VALUE=DATE:20190605
DTEND;VALUE=DATE:20190606
DTSTAMP:20260420T044415
CREATED:20190213T210235Z
LAST-MODIFIED:20190213T210849Z
UID:222044-1559692800-1559779199@harvardmedsim.org
SUMMARY:L&DCRM-7
DESCRIPTION:Improving Teamwork and Crisis Resource Management (CRM) for Labor and Delivery Clinicians (L&DCRM-7)\nFor those who have previously taken Learning Teamwork and Crisis Resource Management (CRM) for Labor and Delivery Clinicians (L&DCRM-1)\, this full day experiential course refines and advances principles of CRM for application in real clinical settings. \nTopics include:\n– Discussion of how participants are applying crisis resource management principles in clinical practice\n– Communication strategies in event management \nLearn more about Improving Teamwork and Crisis Resource Management for Labor and Delivery Clinicians
URL:https://harvardmedsim.org/event/ldcrm-7-jun-05-2019/
LOCATION:Center for Medical Simulation (CMS)\, 100 1st Ave\, Suite# 400\, Boston\, MA\, 02129-2011\, United States
CATEGORIES:Labor & Delivery Simulation Courses
END:VEVENT
END:VCALENDAR