BEGIN:VCALENDAR
VERSION:2.0
PRODID:-//Center for Medical Simulation - ECPv5.16.3.1//NONSGML v1.0//EN
CALSCALE:GREGORIAN
METHOD:PUBLISH
X-WR-CALNAME:Center for Medical Simulation
X-ORIGINAL-URL:https://harvardmedsim.org
X-WR-CALDESC:Events for Center for Medical Simulation
BEGIN:VTIMEZONE
TZID:America/New_York
BEGIN:DAYLIGHT
TZOFFSETFROM:-0500
TZOFFSETTO:-0400
TZNAME:EDT
DTSTART:20200308T070000
END:DAYLIGHT
BEGIN:STANDARD
TZOFFSETFROM:-0400
TZOFFSETTO:-0500
TZNAME:EST
DTSTART:20201101T060000
END:STANDARD
END:VTIMEZONE
BEGIN:VEVENT
DTSTART;VALUE=DATE:20200722
DTEND;VALUE=DATE:20200723
DTSTAMP:20260421T101716
CREATED:20200612T132631Z
LAST-MODIFIED:20200710T130626Z
UID:224703-1595376000-1595462399@harvardmedsim.org
SUMMARY:L&DCRM-8
DESCRIPTION:Improving Teamwork and Crisis Resource Management (CRM) for Labor and Delivery Clinicians (L&DCRM-8)\nThis full day experiential course refines and advances principles of CRM for application in real clinical settings. \nTopics include:\n– Discussion of how participants are applying crisis resource management principles in clinical practice\n– Communication strategies in event management \nLearn more about Improving Teamwork and Crisis Resource Management for Labor and Delivery Clinicians\nOpen to Anesthesiologists only. Full for OBs and CNMs.
URL:https://harvardmedsim.org/event/ldcrm-8-jul-22-2020/
LOCATION:Center for Medical Simulation (CMS)\, 100 1st Ave\, Suite# 400\, Boston\, MA\, 02129-2011\, United States
CATEGORIES:Labor & Delivery Simulation Courses
END:VEVENT
END:VCALENDAR