BEGIN:VCALENDAR
VERSION:2.0
PRODID:-//Center for Medical Simulation - ECPv5.16.3.1//NONSGML v1.0//EN
CALSCALE:GREGORIAN
METHOD:PUBLISH
X-WR-CALNAME:Center for Medical Simulation
X-ORIGINAL-URL:https://harvardmedsim.org
X-WR-CALDESC:Events for Center for Medical Simulation
BEGIN:VTIMEZONE
TZID:America/New_York
BEGIN:DAYLIGHT
TZOFFSETFROM:-0500
TZOFFSETTO:-0400
TZNAME:EDT
DTSTART:20170312T070000
END:DAYLIGHT
BEGIN:STANDARD
TZOFFSETFROM:-0400
TZOFFSETTO:-0500
TZNAME:EST
DTSTART:20171105T060000
END:STANDARD
END:VTIMEZONE
BEGIN:VEVENT
DTSTART;VALUE=DATE:20171001
DTEND;VALUE=DATE:20171005
DTSTAMP:20260419T084535
CREATED:20170609T142247Z
LAST-MODIFIED:20190301T142551Z
UID:218991-1506816000-1507161599@harvardmedsim.org
SUMMARY:Simulation as a Teaching Tool: CRESENT (Center for Research\, Education & Simulation Enhanced Training) -  Riyadh\, Saudi Arabia
DESCRIPTION:Simulation Instructor Training: Simulation as a Teaching Tool (SATT)\nThis course immerses healthcare simulation leaders and instructors in a multi method course wherein participants learn how to teach clinical\, behavioral\, and cognitive skills through simulation. It draws from the disciplines of aviation\, healthcare\, psychology\, experiential learning\, and organizational behavior. Participants explore simulator-based teaching methods applicable across the healthcare education spectrum\, including undergraduate and graduate medical\, nursing and allied health domains. The daily formats vary and include; simulation scenarios\, lectures\, small and large group discussions\, and practical exercises with feedback. Typically these courses also offer a couple of social evenings for networking and sharing experiences. \nTopics include: \n\nBuilding a challenging and safe learning environment\nUtilizing effective debriefing techniques and avoiding ineffective ones\nPreparing\, building\, conducting and debriefing high-fidelity simulation scenarios\n\nLearn more about Simulation as a Teaching Tool courses in general. \n\nhref=”https://www.kfmc.med.sa/EN/Training/ATA/Pages/sIMULATIONcENTER-e.aspx” target=”_blank” rel=”noopener noreferrer”>Learn more about the CRESENT Simulation as a Teaching Tool course.
URL:https://harvardmedsim.org/event/simulation-as-a-teaching-tool-cresent-riyadh-saudi-arabia-oct-01-04-2017/
LOCATION:CRESENT (Center for Research\, Education & Simulation Enhanced Training)\, King Fahd Medical City\, Sulaimaniyah\, Riyadh\, Saudi Arabia
CATEGORIES:Instructor Training Offsite
END:VEVENT
END:VCALENDAR