BEGIN:VCALENDAR
VERSION:2.0
PRODID:-//Center for Medical Simulation - ECPv5.16.3.1//NONSGML v1.0//EN
CALSCALE:GREGORIAN
METHOD:PUBLISH
X-WR-CALNAME:Center for Medical Simulation
X-ORIGINAL-URL:https://harvardmedsim.org
X-WR-CALDESC:Events for Center for Medical Simulation
BEGIN:VTIMEZONE
TZID:America/New_York
BEGIN:DAYLIGHT
TZOFFSETFROM:-0500
TZOFFSETTO:-0400
TZNAME:EDT
DTSTART:20170312T070000
END:DAYLIGHT
BEGIN:STANDARD
TZOFFSETFROM:-0400
TZOFFSETTO:-0500
TZNAME:EST
DTSTART:20171105T060000
END:STANDARD
END:VTIMEZONE
BEGIN:VEVENT
DTSTART;VALUE=DATE:20170613
DTEND;VALUE=DATE:20170617
DTSTAMP:20260421T081556
CREATED:20170525T152249Z
LAST-MODIFIED:20190301T142713Z
UID:218671-1497312000-1497657599@harvardmedsim.org
SUMMARY:Simulation as a Teaching Tool: NYSIM - New York\, NY
DESCRIPTION:Simulation Instructor Training: Simulation as a Teaching Tool (SATT)\nThis course immerses healthcare simulation leaders and instructors in a multi method course wherein participants learn how to teach clinical\, behavioral\, and cognitive skills through simulation. It draws from the disciplines of aviation\, healthcare\, psychology\, experiential learning\, and organizational behavior. Participants explore simulator-based teaching methods applicable across the healthcare education spectrum\, including undergraduate and graduate medical\, nursing and allied health domains. The daily formats vary and include; simulation scenarios\, lectures\, small and large group discussions\, and practical exercises with feedback. Typically these courses also offer a couple of social evenings for networking and sharing experiences. \nTopics include: \n\nBuilding a challenging and safe learning environment\nUtilizing effective debriefing techniques and avoiding ineffective ones\nPreparing\, building\, conducting and debriefing high-fidelity simulation scenarios\n\nLearn more about Simulation as a Teaching Tool courses in general.\nLearn more about the NYSIM Simulation as a Teaching Tool course.\nApply online on the NYSIM Registration website for the NYSIM Simulation as a Teaching Tool course.
URL:https://harvardmedsim.org/event/simulation-as-a-teaching-tool-nysim-jun-13-16-2017/
LOCATION:NYSIM – New York Simulation Center for the Health Sciences at Bellevue Hospital\, 462 First Avenue\, New York\, NY\, 10016\, United States
CATEGORIES:Instructor Training Offsite
END:VEVENT
END:VCALENDAR