BEGIN:VCALENDAR
VERSION:2.0
PRODID:-//Center for Medical Simulation - ECPv5.16.3.1//NONSGML v1.0//EN
CALSCALE:GREGORIAN
METHOD:PUBLISH
X-WR-CALNAME:Center for Medical Simulation
X-ORIGINAL-URL:https://harvardmedsim.org
X-WR-CALDESC:Events for Center for Medical Simulation
BEGIN:VTIMEZONE
TZID:America/New_York
BEGIN:DAYLIGHT
TZOFFSETFROM:-0500
TZOFFSETTO:-0400
TZNAME:EDT
DTSTART:20190310T070000
END:DAYLIGHT
BEGIN:STANDARD
TZOFFSETFROM:-0400
TZOFFSETTO:-0500
TZNAME:EST
DTSTART:20191103T060000
END:STANDARD
END:VTIMEZONE
BEGIN:VEVENT
DTSTART;VALUE=DATE:20190611
DTEND;VALUE=DATE:20190615
DTSTAMP:20260420T100356
CREATED:20180712T135127Z
LAST-MODIFIED:20190301T142243Z
UID:221003-1560211200-1560556799@harvardmedsim.org
SUMMARY:Simulation as a Teaching Tool: Univ. of Alabama-Birmingham - Birmingham\, AL
DESCRIPTION:Simulation Instructor Training: Simulation as a Teaching Tool (SATT)\nThis course immerses healthcare simulation leaders and instructors in a multi method course wherein participants learn how to teach clinical\, behavioral\, and cognitive skills through simulation. It draws from the disciplines of aviation\, healthcare\, psychology\, experiential learning\, and organizational behavior. Participants explore simulator-based teaching methods applicable across the healthcare education spectrum\, including undergraduate and graduate medical\, nursing and allied health domains. The daily formats vary and include; simulation scenarios\, lectures\, small and large group discussions\, and practical exercises with feedback. Typically these courses also offer a couple of social evenings for networking and sharing experiences. \nTopics include: \n\nBuilding a challenging and safe learning environment\nUtilizing effective debriefing techniques and avoiding ineffective ones\nPreparing\, building\, conducting and debriefing high-fidelity simulation scenarios\n\nLearn more about Simulation as a Teaching Tool courses in general.\nLearn more about the UAB Simulation as a Teaching Tool course.
URL:https://harvardmedsim.org/event/simulation-as-a-teaching-tool-uab-birminham-al-jun-11-14-2019/
LOCATION:The University of Alabama – Birmingham (UAB)\, Birmingham\, AL\, United States
CATEGORIES:Instructor Training Offsite
END:VEVENT
END:VCALENDAR