BEGIN:VCALENDAR
VERSION:2.0
PRODID:-//Center for Medical Simulation - ECPv5.16.3.1//NONSGML v1.0//EN
CALSCALE:GREGORIAN
METHOD:PUBLISH
X-WR-CALNAME:Center for Medical Simulation
X-ORIGINAL-URL:https://harvardmedsim.org
X-WR-CALDESC:Events for Center for Medical Simulation
BEGIN:VTIMEZONE
TZID:America/New_York
BEGIN:DAYLIGHT
TZOFFSETFROM:-0500
TZOFFSETTO:-0400
TZNAME:EDT
DTSTART:20190310T070000
END:DAYLIGHT
BEGIN:STANDARD
TZOFFSETFROM:-0400
TZOFFSETTO:-0500
TZNAME:EST
DTSTART:20191103T060000
END:STANDARD
END:VTIMEZONE
BEGIN:VEVENT
DTSTART;VALUE=DATE:20190422
DTEND;VALUE=DATE:20190426
DTSTAMP:20260421T050431
CREATED:20181219T184441Z
LAST-MODIFIED:20190911T140346Z
UID:221805-1555891200-1556236799@harvardmedsim.org
SUMMARY:Simulation as a Teaching Tool: Center for Healthcare Simulation (CHS) - Singapore
DESCRIPTION:Simulation Instructor Training: Simulation as a Teaching Tool (SATT)\nThis course immerses healthcare simulation leaders and instructors in a multi method course wherein participants learn how to teach clinical\, behavioral\, and cognitive skills through simulation. It draws from the disciplines of aviation\, healthcare\, psychology\, experiential learning\, and organizational behavior. Participants explore simulator-based teaching methods applicable across the healthcare education spectrum\, including undergraduate and graduate medical\, nursing and allied health domains. The daily formats vary and include; simulation scenarios\, lectures\, small and large group discussions\, and practical exercises with feedback. Typically these courses also offer a couple of social evenings for networking and sharing experiences. \nTopics include: \n\nBuilding a challenging and safe learning environment\nUtilizing effective debriefing techniques and avoiding ineffective ones\nPreparing\, building\, conducting and debriefing high-fidelity simulation scenarios\n\nThis course is hosted by Centre for Healthcare Simulation (CHS) in the Yong Loo Lin School of Medicine at the National University of Singapore (NUS) in Singapore.\nLearn more about the NUS-CMS Simulation as a Teaching Tool course.\nLearn more about Simulation as a Teaching Tool courses in general.
URL:https://harvardmedsim.org/event/simulation-teaching-tool-center-healthcare-simulation-chs-singapore-apr-22-25-2019/
LOCATION:Centre for Healthcare Simulation (CHS)\, Yong Loo Lin School of Medicine\, National University of Singapore (NUS)\, 1E Kent Ridge Road\, Singapore
CATEGORIES:Instructor Training Offsite
END:VEVENT
END:VCALENDAR