BEGIN:VCALENDAR
VERSION:2.0
PRODID:-//Center for Medical Simulation - ECPv5.16.3.1//NONSGML v1.0//EN
CALSCALE:GREGORIAN
METHOD:PUBLISH
X-WR-CALNAME:Center for Medical Simulation
X-ORIGINAL-URL:https://harvardmedsim.org
X-WR-CALDESC:Events for Center for Medical Simulation
BEGIN:VTIMEZONE
TZID:America/New_York
BEGIN:DAYLIGHT
TZOFFSETFROM:-0500
TZOFFSETTO:-0400
TZNAME:EDT
DTSTART:20210314T070000
END:DAYLIGHT
BEGIN:STANDARD
TZOFFSETFROM:-0400
TZOFFSETTO:-0500
TZNAME:EST
DTSTART:20211107T060000
END:STANDARD
END:VTIMEZONE
BEGIN:VEVENT
DTSTART;TZID=America/New_York:20210310T110000
DTEND;TZID=America/New_York:20210310T120000
DTSTAMP:20260423T171307
CREATED:20210204T180557Z
LAST-MODIFIED:20210315T154835Z
UID:225838-1615374000-1615377600@harvardmedsim.org
SUMMARY:Weekly Webinars - Building Expertise: Exploring Novice Debriefers’ Post-Simulation Debriefing Experiences
DESCRIPTION:Recording\nWatch On-Demand \n\nTuition\nComplimentary – $0 USD \nRegister Today\n\nAbout this session\nExpertise of the debriefer is critical to ensure simulation participants achieve the best possible learning outcomes. Debriefers need a specific skills set in order to balance multiple priorities\, including covering all learning objectives\, facilitating reflection\, incorporating teaching and feedback\, managing student questions\, maintaining psychological safety\, and at the same time\, allowing conversation to flow. As the use of simulation in healthcare continues to  expand rapidly\, especially during the global pandemic\, large numbers of instructors find themselves to be novice debriefers in this teaching paradigm. While understanding the approaches used by novice debriefers is critical in informing faculty development needs in simulation\, however\, to date\, very little empirical research has focused on debriefing approaches used by debriefers at any experience level\, especially novices.  \nDrawing from their extensive experiences in simulation faculty development\, Grace Ng and Daniel Lugassy share key findings and insights from their qualitative study focused on exploring experiences of novice debriefers in this webinar. Join us to discuss common experiences and challenges of novice debriefers\, and explore strategies to facilitate debriefer expertise development. The presentation will be followed by an interactive Q&A where the audience can interact with the speakers. \n\nLearning Objectives\n\nDiscuss common experiences of debriefers who are new to post-simulation debriefing\nExplore strategies to facilitate building expertise for novice debriefers\n\nPre-webinar Preparation\nPlease read: \n\nNg G\, Lugassy DM. A Pilot Study to Explore Novice Debriefers’ Post-Simulation Debriefing Experiences. Simulation & Gaming. November 2020. doi:10.1177/1046878120970998. Available from: https://doi.org/10.1177%2F1046878120970998\n\nEquipment Requirements\nThe webinar is delivered via Zoom\, a web conferencing platform. All materials and course interactions will occur online. In order to participate fully\, each person must have: \n\nTheir own computer\, tablet\, or mobile phone\nReliable high-speed internet access (minimum 3 Mbps upload/download speed)\nMicrophone and speakers (built-in\, headset or from webcam)\nOptional: Webcam\n\nRecording\nWe are aware that internet connection speed and bandwidth is not consistent globally and thus can cause intermittent interruption of audio and/or video from the webinar. We do everything we can to minimize problems with streaming data; however\, please be forewarned that poor connections may result in slow or choppy audio and video. We will make the entire webinar recording available after it concludes in the Resources section of our website\, including sharing any links referenced during the webinar. \nHost\n\n \n\n\n\nDemian Szyld\, MD\, EdM\nSenior Director\, Faculty Development Program\nCenter for Medical Simulation\nBoston\, Massachusetts\, USA \nDr. Szyld is an Emergency Medicine physician at the Brigham and Women’s Hospital (BWH) and a Lecturer at Harvard Medical School. Dr. Szyld was the first Simulation and Education Fellow at the STRATUS Simulation Center at BWH and is actively involved in the Society for Simulation in Healthcare and has chaired the Formal Training Affinity Group\, led the Affiliations Committee and served as an Accreditation Site Reviewer and completed a term on the Board of Directors (2016-2019).
URL:https://harvardmedsim.org/event/weekly-webinars-mar-10-2021-building-expertise/
LOCATION:Online\, US Eastern Time\, Boston\, MA\, United States
CATEGORIES:Online Instructor Training,Other Courses
ATTACH;FMTTYPE=image/jpeg:https://harvardmedsim.org/wp-content/uploads/2021/02/weekly-webinars-Mar-10-2021-web-event2.jpg
END:VEVENT
END:VCALENDAR